BEGIN:VCALENDAR
VERSION:2.0
PRODID:-//Parroquia San Juan de Ávila - ECPv6.0.6.2//NONSGML v1.0//EN
CALSCALE:GREGORIAN
METHOD:PUBLISH
X-WR-CALNAME:Parroquia San Juan de Ávila
X-ORIGINAL-URL:https://www.parroquiasanjuandeavila.es
X-WR-CALDESC:Eventos para Parroquia San Juan de Ávila
REFRESH-INTERVAL;VALUE=DURATION:PT1H
X-Robots-Tag:noindex
X-PUBLISHED-TTL:PT1H
BEGIN:VTIMEZONE
TZID:Europe/Madrid
BEGIN:DAYLIGHT
TZOFFSETFROM:+0100
TZOFFSETTO:+0200
TZNAME:CEST
DTSTART:20220327T010000
END:DAYLIGHT
BEGIN:STANDARD
TZOFFSETFROM:+0200
TZOFFSETTO:+0100
TZNAME:CET
DTSTART:20221030T010000
END:STANDARD
END:VTIMEZONE
BEGIN:VEVENT
DTSTART;TZID=Europe/Madrid:20221001T190000
DTEND;TZID=Europe/Madrid:20221001T230000
DTSTAMP:20260421T171705
CREATED:20220929T091216Z
LAST-MODIFIED:20220929T091344Z
UID:12410-1664650800-1664665200@www.parroquiasanjuandeavila.es
SUMMARY:Peregrinación nocturna Moraleja - Móstoles
DESCRIPTION:Organizado por la Parroquia de Nuestra Señora de la Asunción de Móstoles presentamos la III PEREGRINACIÓN NOCTURNA A LA PATRONA DE MÓSTOLES \nSerá este sábado 1 de octubre de 2022\, comenzando a las 7 de la tarde en Moraleja de Enmedio. \n\n19:00H Misa en la Iglesia Parroquial de S. Millán (Moraleja de Enmedio)\n20:00H Salida a pie\n23:00H Llegada aproximada\n\nLlevar calzado apropiado\, agua y cena. \n¡Anímate!\nNuestra patrona nos espera.\n\nPuedes leer también:\n\nPeregrinación a Moraleja de Enmedio\, noviembre 2021\nVisita al Prodigio Eucarístico de Moraleja de Enmedio\, marzo 2019
URL:https://www.parroquiasanjuandeavila.es/event/peregrinacion-nocturna-moraleja-mostoles/
LOCATION:Parroquía San Millán Moraleja de Enmerio\, C/ Iglesia s/n\, Moraleja de Enmedio\, Madrid\, 28950
CATEGORIES:Diócesis de Getafe,Móstoles
ATTACH;FMTTYPE=image/jpeg:https://www.parroquiasanjuandeavila.es/wp-content/uploads/2022/09/cartel-peregrinacion-nocturna.jpg
END:VEVENT
BEGIN:VEVENT
DTSTART;TZID=Europe/Madrid:20221004T200000
DTEND;TZID=Europe/Madrid:20221004T210000
DTSTAMP:20260421T171705
CREATED:20221003T111734Z
LAST-MODIFIED:20221003T111751Z
UID:12428-1664913600-1664917200@www.parroquiasanjuandeavila.es
SUMMARY:Misa Solemne 8º aniversario de la Consagración del Templo
DESCRIPTION:Este martes 4 de octubre de 2022 celebraremos el octavo aniversario de la consagración del templo con la Misa Solemne.\n¡ Os esperamos a todos! \nSan Juan de Ávila fue erigida como parroquia el 27 de mayo de 1999. Comenzó en un local de la calle Dalia\, en Móstoles\, hasta que se inauguró el templo parroquial definitivo el 4 de octubre de 2014\, en la calle Orquídea\, número 5. \nPuedes leer también: \n6º Aniversario de la Consagración del Templo \nSan Juan de Ávila nevada\, enero 2021
URL:https://www.parroquiasanjuandeavila.es/event/misa-solemne-8o-aniversario-de-la-consagracion-del-templo/
LOCATION:Parroquia San Juan de Ávila Móstoles
CATEGORIES:Vida parroquial
ATTACH;FMTTYPE=image/jpeg:https://www.parroquiasanjuandeavila.es/wp-content/uploads/2019/10/5_Aniversario_2.jpg
END:VEVENT
BEGIN:VEVENT
DTSTART;TZID=Europe/Madrid:20221006T213000
DTEND;TZID=Europe/Madrid:20221006T223000
DTSTAMP:20260421T171705
CREATED:20221006T065827Z
LAST-MODIFIED:20221006T074006Z
UID:12449-1665091800-1665095400@www.parroquiasanjuandeavila.es
SUMMARY:Hora Santa
DESCRIPTION:Todos los jueves\, a partir del jueves 6 de octubre de 2022\, tenemos hora santa de 21:30H a 22:30H.\n¡Es el momento de acompañar al Señor! ¡Te está esperando! \n«Ven y verás» Juan 1\, 46 \n  \n\nPuedes leer también: \n\nHora Santa del 24 junio de 2021\nHora santa del 8 de abril de 2021\nImágenes de los oficios de Jueves Santo y la Hora Santa 2021
URL:https://www.parroquiasanjuandeavila.es/event/hora-santa-50/
CATEGORIES:Jóvenes,Vida parroquial
ATTACH;FMTTYPE=image/jpeg:https://www.parroquiasanjuandeavila.es/wp-content/uploads/2022/10/cartel_horasanta_10-2022.jpeg
END:VEVENT
BEGIN:VEVENT
DTSTART;TZID=Europe/Madrid:20221008T090000
DTEND;TZID=Europe/Madrid:20221008T200000
DTSTAMP:20260421T171705
CREATED:20221003T114723Z
LAST-MODIFIED:20221003T114845Z
UID:12431-1665219600-1665259200@www.parroquiasanjuandeavila.es
SUMMARY:Marcha de Montañeros
DESCRIPTION:  \nConsulta toda la información en: \n¡Apúntate ahora a la marcha de Montañeros del 8 de octubre de 2022! \n  \nPuedes leer también: \nCampamento de Montañeros 2022. Parte final.\nCampamento de Montañeros 2022. Segunda parte.\nCampamento de Montañeros 2022. Primera parte.
URL:https://www.parroquiasanjuandeavila.es/event/marcha-de-montaneros-3/
CATEGORIES:Familias,Montañeros
ATTACH;FMTTYPE=image/jpeg:https://www.parroquiasanjuandeavila.es/wp-content/uploads/2022/09/cartel_marcha_oct2022.jpg
END:VEVENT
BEGIN:VEVENT
DTSTART;TZID=Europe/Madrid:20221012T130000
DTEND;TZID=Europe/Madrid:20221012T140000
DTSTAMP:20260421T171705
CREATED:20221010T073857Z
LAST-MODIFIED:20221010T073857Z
UID:12506-1665579600-1665583200@www.parroquiasanjuandeavila.es
SUMMARY:Festividad de la Virgen del Pilar\, Misa a las 13 y 20 H
DESCRIPTION:El próximo miércoles 12 de octubre de 2022 celebramos la festividad de la Virgen del Pilar\, y aunque no es día de precepto si es un día de especial tradición. Por tanto\, se va a reforzar el horario habitual con una Misa adicional a las 13H.\nPor tanto tendremos dos Misas: a las 13H y a las 20 H. \nORDENACIONES SACERDOTALES 12 OCTUBRE 2022 \nEl mismo miércoles 12 de octubre a las 18.00h nuesteo obispo D. Ginés García Beltrán presidirá la ordenación de presbíteros de Daniel Navarro Berrios\, Régis François Lepoutre y Álvaro Pardinas Armisen. \nSerá en la Basílica del Sagrado Corazón de Jesús\, en el Cerro de los Ángeles. El prelado estará acompañado por el Coro diocesano. \nLa ceremonia se podrá seguir en directo a través del canal diocesano de youtube:  https://www.youtube.com/user/getafediocesis \n¡Recemos por ellos\, para que se conviertan en sacerdotes santos y la Virgen del Pilar les acompañe siempre en su camino! \n\n\n\nPuedes leer también: \n\nAdmisión y Ministerios a seis seminaristas por el obispo D. Ginés
URL:https://www.parroquiasanjuandeavila.es/event/festividad-de-la-virgen-del-pilar-misa-a-las-13-y-20-h/
LOCATION:Parroquia San Juan de Ávila Móstoles
CATEGORIES:Vida parroquial
ATTACH;FMTTYPE=image/jpeg:https://www.parroquiasanjuandeavila.es/wp-content/uploads/2019/10/VirgenPilar_1.jpg
END:VEVENT
BEGIN:VEVENT
DTSTART;TZID=Europe/Madrid:20221012T180000
DTEND;TZID=Europe/Madrid:20221012T190000
DTSTAMP:20260421T171705
CREATED:20221010T083719Z
LAST-MODIFIED:20221010T083719Z
UID:12508-1665597600-1665601200@www.parroquiasanjuandeavila.es
SUMMARY:Ordenaciones sacerdotales
DESCRIPTION:El  miércoles 12 de octubre de 2022  a las 18.00h nuesteo obispo D. Ginés García Beltrán presidirá la ordenación de presbíteros de Daniel Navarro Berrios\, Régis François Lepoutre y Álvaro Pardinas Armisen. \nSerá en la Basílica del Sagrado Corazón de Jesús\, en el Cerro de los Ángeles. El prelado estará acompañado por el Coro diocesano. \nLa ceremonia se podrá seguir en directo a través del canal diocesano de youtube:  https://www.youtube.com/user/getafediocesis \n¡Recemos por ellos\, para que se conviertan en sacerdotes santos y la Virgen del Pilar les acompañe siempre en su camino! \n\nLa Virgen del Pilar con manto blanco\n\nPuedes leer también: \n\nAdmisión y Ministerios a seis seminaristas por el obispo D. Ginés
URL:https://www.parroquiasanjuandeavila.es/event/ordenaciones-sacerdotales/
LOCATION:Cerro de los Angeles\, Getafe\, Cerro de los Ángeles\, Getafe\, Spain
CATEGORIES:Diócesis de Getafe
END:VEVENT
BEGIN:VEVENT
DTSTART;TZID=Europe/Madrid:20221013T213000
DTEND;TZID=Europe/Madrid:20221013T223000
DTSTAMP:20260421T171705
CREATED:20221006T065733Z
LAST-MODIFIED:20221006T073342Z
UID:12447-1665696600-1665700200@www.parroquiasanjuandeavila.es
SUMMARY:Hora Santa
DESCRIPTION:Todos los jueves\, a partir del jueves 6 de octubre de 2022\, tenemos hora santa de 21:30H a 22:30H.\n¡Es el momento de acompañar al Señor! ¡Te está esperando! \n«Ven y verás» Juan 1\, 46 \n  \n\nPuedes leer también: \n\nHora Santa del 24 junio de 2021\nHora santa del 8 de abril de 2021\nImágenes de los oficios de Jueves Santo y la Hora Santa 2021
URL:https://www.parroquiasanjuandeavila.es/event/hora-santa-49/
LOCATION:Parroquia San Juan de Ávila Móstoles
CATEGORIES:Jóvenes,Vida parroquial
ATTACH;FMTTYPE=image/jpeg:https://www.parroquiasanjuandeavila.es/wp-content/uploads/2022/10/cartel_horasanta_10-2022.jpeg
END:VEVENT
BEGIN:VEVENT
DTSTART;TZID=Europe/Madrid:20221020T213000
DTEND;TZID=Europe/Madrid:20221020T223000
DTSTAMP:20260421T171705
CREATED:20221110T101119Z
LAST-MODIFIED:20221110T101327Z
UID:12983-1666301400-1666305000@www.parroquiasanjuandeavila.es
SUMMARY:Hora Santa
DESCRIPTION:Todos los jueves\, a partir del jueves 6 de octubre de 2022\, tenemos hora santa de 21:30H a 22:30H.\n¡Es el momento de acompañar al Señor! ¡Te está esperando! \n«YO HE VENIDO PARA QUE TENGAN VIDA\, Y LA TENGAN ABUNDANTE» Juan 10\, 10 \n  \n\nPuedes leer también: \n\nHora Santa del 24 junio de 2021\nHora santa del 8 de abril de 2021\nImágenes de los oficios de Jueves Santo y la Hora Santa 2021
URL:https://www.parroquiasanjuandeavila.es/event/hora-santa-57/
LOCATION:Parroquia San Juan de Ávila Móstoles
CATEGORIES:Jóvenes,Vida parroquial
ATTACH;FMTTYPE=image/jpeg:https://www.parroquiasanjuandeavila.es/wp-content/uploads/2022/11/cartel_horasanta_11-2022.jpeg
END:VEVENT
BEGIN:VEVENT
DTSTART;TZID=Europe/Madrid:20221022T180000
DTEND;TZID=Europe/Madrid:20221022T200000
DTSTAMP:20260421T171705
CREATED:20221014T083500Z
LAST-MODIFIED:20221014T083547Z
UID:12611-1666461600-1666468800@www.parroquiasanjuandeavila.es
SUMMARY:Conferencia 'El Arte y la Moral en San Juan Pablo II'
DESCRIPTION:  \n\n\n\nEl sábado 22 de octubre de 2022 a las 18H tendremos el placer de contar con D. Manuel Moreno Jiménez que nos ofrecerá una conferencia titulada El Arte y la Moral en San Juan Pablo II. \nLa conferencia servirá como acto inaugural de la Exposición San Juan Pablo II que estará en los locales parroquiales entre el 22 de octubre y el 22 de diciembre de 2022. \n¡Os esperamos a todos! ¡No podéis faltar! \nPuedes leer también: \n\nMeditación\, lunes 8 de marzo de 2021\, San Juan Pablo II\nMeditación\, martes 9 de marzo de 2021. Santa Madre Maravillas\nMeditación\, miércoles 10 de marzo de 2021\, Santa Teresa de Calcuta\n\n\n\n\n\n\n\n\n\n\n\n\n\n 
URL:https://www.parroquiasanjuandeavila.es/event/conferencia-el-arte-y-la-moral-en-san-juan-pablo-ii/
CATEGORIES:Vida parroquial
ATTACH;FMTTYPE=image/png:https://www.parroquiasanjuandeavila.es/wp-content/uploads/2022/10/Cartel-vertical-Inauguracion-Expo-SJPII.png
END:VEVENT
BEGIN:VEVENT
DTSTART;TZID=Europe/Madrid:20221027T213000
DTEND;TZID=Europe/Madrid:20221027T223000
DTSTAMP:20260421T171705
CREATED:20221110T101023Z
LAST-MODIFIED:20221110T101412Z
UID:12981-1666906200-1666909800@www.parroquiasanjuandeavila.es
SUMMARY:Hora Santa
DESCRIPTION:Todos los jueves\, a partir del jueves 6 de octubre de 2022\, tenemos hora santa de 21:30H a 22:30H.\n¡Es el momento de acompañar al Señor! ¡Te está esperando! \n«YO HE VENIDO PARA QUE TENGAN VIDA\, Y LA TENGAN ABUNDANTE» Juan 10\, 10 \n  \n\nPuedes leer también: \n\nHora Santa del 24 junio de 2021\nHora santa del 8 de abril de 2021\nImágenes de los oficios de Jueves Santo y la Hora Santa 2021
URL:https://www.parroquiasanjuandeavila.es/event/hora-santa-56/
LOCATION:Parroquia San Juan de Ávila Móstoles
CATEGORIES:Jóvenes
ATTACH;FMTTYPE=image/jpeg:https://www.parroquiasanjuandeavila.es/wp-content/uploads/2022/11/cartel_horasanta_11-2022.jpeg
END:VEVENT
END:VCALENDAR