BEGIN:VCALENDAR
VERSION:2.0
PRODID:-//Parroquia San Juan de Ávila - ECPv6.0.6.2//NONSGML v1.0//EN
CALSCALE:GREGORIAN
METHOD:PUBLISH
X-ORIGINAL-URL:https://www.parroquiasanjuandeavila.es
X-WR-CALDESC:Eventos para Parroquia San Juan de Ávila
REFRESH-INTERVAL;VALUE=DURATION:PT1H
X-Robots-Tag:noindex
X-PUBLISHED-TTL:PT1H
BEGIN:VTIMEZONE
TZID:Europe/Madrid
BEGIN:DAYLIGHT
TZOFFSETFROM:+0100
TZOFFSETTO:+0200
TZNAME:CEST
DTSTART:20210328T010000
END:DAYLIGHT
BEGIN:STANDARD
TZOFFSETFROM:+0200
TZOFFSETTO:+0100
TZNAME:CET
DTSTART:20211031T010000
END:STANDARD
END:VTIMEZONE
BEGIN:VEVENT
DTSTART;TZID=Europe/Madrid:20210401T100000
DTEND;TZID=Europe/Madrid:20210401T110000
DTSTAMP:20260424T232224
CREATED:20210323T103552Z
LAST-MODIFIED:20210323T103617Z
UID:7860-1617271200-1617274800@www.parroquiasanjuandeavila.es
SUMMARY:Laudes y explicación de oficios
DESCRIPTION:Actividades del Jueves Santo\n\n10.00 Laudes\n10.30 Explicación Jueves y Oficios\n18.00 Celebración Santa Cena del Señor\n21.30 Hora Santa
URL:https://www.parroquiasanjuandeavila.es/event/laudes-y-explicacion-de-oficios-3/
CATEGORIES:Vida parroquial
ATTACH;FMTTYPE=image/jpeg:https://www.parroquiasanjuandeavila.es/wp-content/uploads/2019/03/clavado_cruz.jpg
END:VEVENT
BEGIN:VEVENT
DTSTART;TZID=Europe/Madrid:20210401T180000
DTEND;TZID=Europe/Madrid:20210401T190000
DTSTAMP:20260424T232224
CREATED:20210323T104028Z
LAST-MODIFIED:20210323T104028Z
UID:7862-1617300000-1617303600@www.parroquiasanjuandeavila.es
SUMMARY:Celebración Santa Cena del Señor
DESCRIPTION:18.00 Celebración Santa Cena del Señor
URL:https://www.parroquiasanjuandeavila.es/event/celebracion-santa-cena-del-senor/
CATEGORIES:Vida parroquial
ATTACH;FMTTYPE=image/jpeg:https://www.parroquiasanjuandeavila.es/wp-content/uploads/2020/05/Ultima_cena.jpg
END:VEVENT
BEGIN:VEVENT
DTSTART;TZID=Europe/Madrid:20210401T213000
DTEND;TZID=Europe/Madrid:20210401T223000
DTSTAMP:20260424T232224
CREATED:20210323T104212Z
LAST-MODIFIED:20210323T104305Z
UID:7864-1617312600-1617316200@www.parroquiasanjuandeavila.es
SUMMARY:Hora Santa
DESCRIPTION:21.30 Hora Santa
URL:https://www.parroquiasanjuandeavila.es/event/hora-santa-7/
CATEGORIES:Vida parroquial
ATTACH;FMTTYPE=image/jpeg:https://www.parroquiasanjuandeavila.es/wp-content/uploads/2021/03/cartel_horasanta_5.jpg
END:VEVENT
BEGIN:VEVENT
DTSTART;TZID=Europe/Madrid:20210402T100000
DTEND;TZID=Europe/Madrid:20210402T110000
DTSTAMP:20260424T232224
CREATED:20210323T103131Z
LAST-MODIFIED:20210323T103316Z
UID:7858-1617357600-1617361200@www.parroquiasanjuandeavila.es
SUMMARY:Laudes y explicación de oficios
DESCRIPTION:Actividades del Viernes Santo\n\n10.00 Laudes\n10.30 Explicación Viernes y Oficios\n12.00 Vía Crucis\n17.00 Celebración Pasión del Señor
URL:https://www.parroquiasanjuandeavila.es/event/laudes-y-explicacion-de-oficios-2/
CATEGORIES:Vida parroquial
ATTACH;FMTTYPE=image/jpeg:https://www.parroquiasanjuandeavila.es/wp-content/uploads/2019/03/clavado_cruz.jpg
END:VEVENT
BEGIN:VEVENT
DTSTART;TZID=Europe/Madrid:20210402T120000
DTEND;TZID=Europe/Madrid:20210402T123000
DTSTAMP:20260424T232224
CREATED:20210323T102825Z
LAST-MODIFIED:20210323T102825Z
UID:7856-1617364800-1617366600@www.parroquiasanjuandeavila.es
SUMMARY:Vía Crucis
DESCRIPTION:12.00 Vía Crucis\n\nPuedes leer también: \nOraciones de Cuaresma: rezo del Vía Crucis
URL:https://www.parroquiasanjuandeavila.es/event/via-crucis-3/
CATEGORIES:Vida parroquial
ATTACH;FMTTYPE=image/jpeg:https://www.parroquiasanjuandeavila.es/wp-content/uploads/2019/03/via_crucis.jpg
END:VEVENT
BEGIN:VEVENT
DTSTART;TZID=Europe/Madrid:20210402T170000
DTEND;TZID=Europe/Madrid:20210402T180000
DTSTAMP:20260424T232224
CREATED:20210323T102525Z
LAST-MODIFIED:20210412T080243Z
UID:7854-1617382800-1617386400@www.parroquiasanjuandeavila.es
SUMMARY:Celebración Pasión del Señor
DESCRIPTION:17:00H Celebración Pasión del Señor
URL:https://www.parroquiasanjuandeavila.es/event/celebracion-pasion-del-senor/
CATEGORIES:Vida parroquial
ATTACH;FMTTYPE=image/jpeg:https://www.parroquiasanjuandeavila.es/wp-content/uploads/2021/03/La_Crucifixión.jpg
END:VEVENT
BEGIN:VEVENT
DTSTART;TZID=Europe/Madrid:20210403T100000
DTEND;TZID=Europe/Madrid:20210403T110000
DTSTAMP:20260424T232224
CREATED:20210323T101630Z
LAST-MODIFIED:20210323T103739Z
UID:7850-1617444000-1617447600@www.parroquiasanjuandeavila.es
SUMMARY:Laudes y explicación de oficios
DESCRIPTION:10.00 Laudes\n10.30 Explicación Sábado y Vigilia Pascual\n11.00 Vía Matris\n20.00 Solemne Vigilia Pascual
URL:https://www.parroquiasanjuandeavila.es/event/laudes-y-explicacion-de-oficios/
CATEGORIES:Vida parroquial
ATTACH;FMTTYPE=image/jpeg:https://www.parroquiasanjuandeavila.es/wp-content/uploads/2019/03/clavado_cruz.jpg
END:VEVENT
BEGIN:VEVENT
DTSTART;TZID=Europe/Madrid:20210403T110000
DTEND;TZID=Europe/Madrid:20210403T120000
DTSTAMP:20260424T232224
CREATED:20210323T102142Z
LAST-MODIFIED:20210412T080229Z
UID:7852-1617447600-1617451200@www.parroquiasanjuandeavila.es
SUMMARY:Via Matris
DESCRIPTION:11.00 Vía Matris\n\nEl Vía Matris es el acompañando a la Santísima Virgen María en los dolores que vivió junto a su Hijo y que solemos rezar el sábado santo en la parroquia.
URL:https://www.parroquiasanjuandeavila.es/event/via-matris/
CATEGORIES:Vida parroquial
ATTACH;FMTTYPE=image/jpeg:https://www.parroquiasanjuandeavila.es/wp-content/uploads/2020/04/La_Virgen_Dolorosa.jpg
END:VEVENT
BEGIN:VEVENT
DTSTART;TZID=Europe/Madrid:20210403T200000
DTEND;TZID=Europe/Madrid:20210403T223000
DTSTAMP:20260424T232224
CREATED:20210323T100718Z
LAST-MODIFIED:20210323T100913Z
UID:7845-1617480000-1617489000@www.parroquiasanjuandeavila.es
SUMMARY:Solemne Vigilia Pascual
DESCRIPTION:A las 8 de la tarde del sábado 3 de abril de 2021 tendremos la Solemne Vigilia Pascual.\nActividades del Sábado Santo:\n\n10.00 Laudes\n10.30 Explicación Sábado y Vigilia Pascual\n11.00 Vía Matris\n20.00 Solemne Vigilia Pascual\n\n \nPuedes leer también: \nIndulgencias especiales con ocasión del Año de San José \nMeditaciones \n 
URL:https://www.parroquiasanjuandeavila.es/event/solemne-vigilia-pascual/
CATEGORIES:Vida parroquial
ATTACH;FMTTYPE=image/jpeg:https://www.parroquiasanjuandeavila.es/wp-content/uploads/2020/04/Cristo_resucitado_1JPG.jpg
END:VEVENT
BEGIN:VEVENT
DTSTART;VALUE=DATE:20210404
DTEND;VALUE=DATE:20210405
DTSTAMP:20260424T232224
CREATED:20210323T101156Z
LAST-MODIFIED:20210323T101156Z
UID:7848-1617494400-1617580799@www.parroquiasanjuandeavila.es
SUMMARY:Domingo de Pascua
DESCRIPTION:Misas: 11.30\, 13.00\, 20.00 H.\nNo habrá misa de 10.00H\n \nPuedes leer también: \nIndulgencias especiales con ocasión del Año de San José \nMeditaciones
URL:https://www.parroquiasanjuandeavila.es/event/domingo-de-pascua/
CATEGORIES:Vida parroquial
ATTACH;FMTTYPE=image/jpeg:https://www.parroquiasanjuandeavila.es/wp-content/uploads/2020/04/Cristo_resucitado_1JPG.jpg
END:VEVENT
BEGIN:VEVENT
DTSTART;TZID=Europe/Madrid:20210408T213000
DTEND;TZID=Europe/Madrid:20210408T223000
DTSTAMP:20260424T232224
CREATED:20210511T084629Z
LAST-MODIFIED:20210511T084629Z
UID:8128-1617917400-1617921000@www.parroquiasanjuandeavila.es
SUMMARY:Hora Santa
DESCRIPTION:DESDE EL JUEVES 25 DE FEBRERO DE 2021 LA HORA SANTA VUELVE AL HORARIO DE 21:30 A 22:30H\n“Mirad mis manos y mis pies: soy yo en persona”Juan 24\, 39 \n¡Contamos contigo!\n¡El señor te espera!\nPuedes leer también: \n\nHora santa del 8 de abril de 2021\nImágenes del domingo de Ramos 2021\nImágenes de los oficios de Jueves Santo y la Hora Santa 2021\nImágenes de los oficios de Viernes Santo 2021\n¡Resucitó! ¡Resucitó! ¡Resucitó! ¡Aleluya!. Vigilia Pascual 2021.\n\n  \n\n 
URL:https://www.parroquiasanjuandeavila.es/event/hora-santa-14/
CATEGORIES:Vida parroquial
ATTACH;FMTTYPE=image/jpeg:https://www.parroquiasanjuandeavila.es/wp-content/uploads/2021/04/cartel_horasanta.jpg
END:VEVENT
BEGIN:VEVENT
DTSTART;TZID=Europe/Madrid:20210415T213000
DTEND;TZID=Europe/Madrid:20210415T223000
DTSTAMP:20260424T232224
CREATED:20210511T084335Z
LAST-MODIFIED:20210511T084406Z
UID:8125-1618522200-1618525800@www.parroquiasanjuandeavila.es
SUMMARY:Hora Santa
DESCRIPTION:DESDE EL JUEVES 25 DE FEBRERO DE 2021 LA HORA SANTA VUELVE AL HORARIO DE 21:30 A 22:30H\n“Mirad mis manos y mis pies: soy yo en persona”Juan 24\, 39 \n¡Contamos contigo!\n¡El señor te espera!\nPuedes leer también: \n\nHora santa del 8 de abril de 2021\nImágenes del domingo de Ramos 2021\nImágenes de los oficios de Jueves Santo y la Hora Santa 2021\nImágenes de los oficios de Viernes Santo 2021\n¡Resucitó! ¡Resucitó! ¡Resucitó! ¡Aleluya!. Vigilia Pascual 2021.\n\n  \n\n 
URL:https://www.parroquiasanjuandeavila.es/event/hora-santa-13/
CATEGORIES:Vida parroquial
ATTACH;FMTTYPE=image/jpeg:https://www.parroquiasanjuandeavila.es/wp-content/uploads/2021/04/cartel_horasanta.jpg
END:VEVENT
BEGIN:VEVENT
DTSTART;TZID=Europe/Madrid:20210422T093000
DTEND;TZID=Europe/Madrid:20210422T223000
DTSTAMP:20260424T232224
CREATED:20210511T084217Z
LAST-MODIFIED:20210511T084217Z
UID:8123-1619083800-1619130600@www.parroquiasanjuandeavila.es
SUMMARY:Hora Santa
DESCRIPTION:DESDE EL JUEVES 25 DE FEBRERO DE 2021 LA HORA SANTA VUELVE AL HORARIO DE 21:30 A 22:30H\n“Mirad mis manos y mis pies: soy yo en persona”Juan 24\, 39 \n¡Contamos contigo!\n¡El señor te espera!\nPuedes leer también: \n\nHora santa del 8 de abril de 2021\nImágenes del domingo de Ramos 2021\nImágenes de los oficios de Jueves Santo y la Hora Santa 2021\nImágenes de los oficios de Viernes Santo 2021\n¡Resucitó! ¡Resucitó! ¡Resucitó! ¡Aleluya!. Vigilia Pascual 2021.\n\n  \n\n 
URL:https://www.parroquiasanjuandeavila.es/event/hora-santa-12/
CATEGORIES:Vida parroquial
ATTACH;FMTTYPE=image/jpeg:https://www.parroquiasanjuandeavila.es/wp-content/uploads/2021/04/cartel_horasanta.jpg
END:VEVENT
BEGIN:VEVENT
DTSTART;TZID=Europe/Madrid:20210424T090000
DTEND;TZID=Europe/Madrid:20210424T193000
DTSTAMP:20260424T232224
CREATED:20210412T075627Z
LAST-MODIFIED:20210412T130309Z
UID:7923-1619254800-1619292600@www.parroquiasanjuandeavila.es
SUMMARY:Excursión de Montañeros ¡Apúntate ahora!
DESCRIPTION:¡ Apúntate ahora ! El 24 de abril de 2021 hay marcha de montañeros al Seminario de Rozas (Madrid).\n \nDatos\n \nSalida: 9h\nRegreso: 20h\nDestino: Seminario de Rozas (Madrid)\nImporte: 15 €\n \nCondiciones necesarias por las circunstancias de COVID-19:\n \n\n 	Llevar mascarilla en todo momento\n 	Iremos en grupos de 6 ó de 15 máximo\, según normativa\n 	No intercambiar comida\, ropa\, mochila… salvo familiares convivientes.\n 	No haber tenido síntomas relacionados con el COVID-19\, 14 días antes de la actividad\n 	No haber estado en contacto con un caso positivo de COVID-19 14 días antes\n\n \nMaterial\n \n\n 	El habitual en marchas de montañeros\n 	2 mascarillas (una de repuesto por si acaso)\n 	Gel hidro-alcohólico\n\n \nModo de apuntarse\n \n\n 	Rellenar Ficha de autorización (si no se hizo en la primera actividad). Descarga la ficha\, si no lo hiciste: Ficha_Montañeros_2020-2021\n 	Entregar un sobre con el nombre y con el importe en la parroquia\n\n \n¡ Montañeros\, apuntaos ahora ! \n\n \n! Contamos contigo ! \n\n \n\n \nPuedes leer también:\n \n\n 	Marcha de Montañeros a Cenicientos\, 20 de marzo 2021\n 	Fotos de la salida de Montañeros a Valdemaqueda\, 27 de febrero 2021\n 	Actividades del 23 de enero 2021\n 	De la Silla de Felipe II a las Machotas\, 28 noviembre 2020\n 	Salida de Montañeros\, 24 octubre 2020\n\n \n\n\n\n\n\n 
URL:https://www.parroquiasanjuandeavila.es/event/excursion-de-montaneros/
CATEGORIES:Jóvenes,Montañeros,Vida parroquial
ATTACH;FMTTYPE=image/png:https://www.parroquiasanjuandeavila.es/wp-content/uploads/2016/12/LOGO-black.png
END:VEVENT
BEGIN:VEVENT
DTSTART;TZID=Europe/Madrid:20210429T093000
DTEND;TZID=Europe/Madrid:20210429T223000
DTSTAMP:20260424T232224
CREATED:20210511T084114Z
LAST-MODIFIED:20210511T084114Z
UID:8121-1619688600-1619735400@www.parroquiasanjuandeavila.es
SUMMARY:Hora Santa
DESCRIPTION:DESDE EL JUEVES 25 DE FEBRERO DE 2021 LA HORA SANTA VUELVE AL HORARIO DE 21:30 A 22:30H\n“Mirad mis manos y mis pies: soy yo en persona”Juan 24\, 39 \n¡Contamos contigo!\n¡El señor te espera!\nPuedes leer también: \n\nHora santa del 8 de abril de 2021\nImágenes del domingo de Ramos 2021\nImágenes de los oficios de Jueves Santo y la Hora Santa 2021\nImágenes de los oficios de Viernes Santo 2021\n¡Resucitó! ¡Resucitó! ¡Resucitó! ¡Aleluya!. Vigilia Pascual 2021.\n\n  \n\n 
URL:https://www.parroquiasanjuandeavila.es/event/hora-santa-11/
CATEGORIES:Vida parroquial
ATTACH;FMTTYPE=image/jpeg:https://www.parroquiasanjuandeavila.es/wp-content/uploads/2021/04/cartel_horasanta.jpg
END:VEVENT
END:VCALENDAR