BEGIN:VCALENDAR
VERSION:2.0
PRODID:-//Parroquia San Juan de Ávila - ECPv6.0.6.2//NONSGML v1.0//EN
CALSCALE:GREGORIAN
METHOD:PUBLISH
X-ORIGINAL-URL:https://www.parroquiasanjuandeavila.es
X-WR-CALDESC:Eventos para Parroquia San Juan de Ávila
REFRESH-INTERVAL;VALUE=DURATION:PT1H
X-Robots-Tag:noindex
X-PUBLISHED-TTL:PT1H
BEGIN:VTIMEZONE
TZID:Europe/Madrid
BEGIN:DAYLIGHT
TZOFFSETFROM:+0100
TZOFFSETTO:+0200
TZNAME:CEST
DTSTART:20210328T010000
END:DAYLIGHT
BEGIN:STANDARD
TZOFFSETFROM:+0200
TZOFFSETTO:+0100
TZNAME:CET
DTSTART:20211031T010000
END:STANDARD
END:VTIMEZONE
BEGIN:VEVENT
DTSTART;TZID=Europe/Madrid:20210217T100000
DTEND;TZID=Europe/Madrid:20210217T200000
DTSTAMP:20260425T022010
CREATED:20210215T091414Z
LAST-MODIFIED:20210215T091414Z
UID:7471-1613556000-1613592000@www.parroquiasanjuandeavila.es
SUMMARY:Misa e imposición de ceniza
DESCRIPTION:Este próximo miércoles 17 de febrero de 2021 es miércoles de ceniza por lo el horario de Misa e imposición de la ceniza será: \n\n10:00 H Misa con imposición de ceniza\n17:30 H Liturgia de la Palabra e imposición de la ceniza especialmente dedicada a niños y juveniles y sus padres.\n18:30H Misa con imposición de ceniza\n20:00H Misa con imposición de ceniza\n\n \nPuedes leer también: \nLos Milagros Eucarísticos en el Mundo: testimonio de Rosa \nTestimonio de Miguel\, postulante Esclavos de María y de los Pobres \nConvivencia de familias de Comunión\, febrero 2020
URL:https://www.parroquiasanjuandeavila.es/event/misa-e-imposicion-de-ceniza/
LOCATION:Parroquia San Juan de Ávila Móstoles
CATEGORIES:Vida parroquial
ATTACH;FMTTYPE=image/jpeg:https://www.parroquiasanjuandeavila.es/wp-content/uploads/2019/03/corona_espinas.jpg
END:VEVENT
BEGIN:VEVENT
DTSTART;TZID=Europe/Madrid:20210218T210000
DTEND;TZID=Europe/Madrid:20210218T220000
DTSTAMP:20260425T022010
CREATED:20210215T091828Z
LAST-MODIFIED:20210412T080422Z
UID:7474-1613682000-1613685600@www.parroquiasanjuandeavila.es
SUMMARY:Hora Santa de 21 a 22H
DESCRIPTION:Este jueves 18 de febrero de 2021 retomamos la Hora Santa de 21 a 22H. \n¡No podéis faltar!
URL:https://www.parroquiasanjuandeavila.es/event/hora-santa-de-21-a-22h/
LOCATION:Parroquia San Juan de Ávila Móstoles
CATEGORIES:Vida parroquial
ATTACH;FMTTYPE=image/jpeg:https://www.parroquiasanjuandeavila.es/wp-content/uploads/2021/01/Logo_HoraSanta.jpg
END:VEVENT
BEGIN:VEVENT
DTSTART;TZID=Europe/Madrid:20210219T193000
DTEND;TZID=Europe/Madrid:20210219T200000
DTSTAMP:20260425T022010
CREATED:20200224T114229Z
LAST-MODIFIED:20210218T084153Z
UID:5508-1613763000-1613764800@www.parroquiasanjuandeavila.es
SUMMARY:Vía Crucis
DESCRIPTION:Os recordamos que la parroquia está abierta desde las 6 y media de la mañana por lo que cualquier momento es bueno para pasar un rato con el Santísimo\, mucho más en tiempo de Cuaresma.\n\nLos viernes a las siete y media de la tarde durante la Cuaresma de 2021 se rezará el Vía Crucis.\nOs invitamos a uniros a esta oración desde el próximo viernes.\nEl Vía Crucis o Camino a la Cruz es una de las más antiguas devociones practicadas por los Católicos en todo el mundo.  Consiste en acompañar a Jesús en su Pasión y Muerte\, en sus horas finales\, repasando 14 momentos (las 14 Estaciones del Vía Crucis) desde que fue condenado a muerte hasta su sepultura. \nMás recientemente a veces se suele agregar una nueva 15ª Estación: la Resurrección del Señor\, en consideración a que si Cristo no resucitó\, vana sería nuestra Fe (1 Cor 15\, 14). \nLos momentos o estaciones que se recuerdan son los siguientes: \n\n1ª Estación: Jesús es condenado a muerte.\n2ª Estación: Jesús carga con la Cruz.\n3ª Estación: Jesús cae por primera vez.\n4ª Estación: Jesús se encuentra con su Madre.\n5ª Estación: Simón de Cirene ayuda a Jesús a llevar la cruz.\n6ª Estación: La Verónica limpia el rostro de Jesús.\n7ª Estación: Jesús cae por segunda vez.\n8ª Estación: Jesús habla a las mujeres de Jerusalén.\n9ª Estación: Jesús cae por tercera vez.\n10ª Estación: Jesús es despojado de sus vestiduras.\n11ª Estación: Jesús es clavado en la cruz.\n12ª Estación: Jesús muere en la cruz.\n13ª Estación: Jesús es bajado de la cruz.\n14ª Estación: Jesús es sepultado.\n15ª Estación: Y al tercer día resucitó.\n\n \nPuedes leer también: \nOraciones de Cuaresma: rezo del Vía Crucis
URL:https://www.parroquiasanjuandeavila.es/event/via-crucis-6/
CATEGORIES:Vida parroquial
ATTACH;FMTTYPE=image/jpeg:https://www.parroquiasanjuandeavila.es/wp-content/uploads/2019/03/via_crucis.jpg
END:VEVENT
BEGIN:VEVENT
DTSTART;TZID=Europe/Madrid:20210225T213000
DTEND;TZID=Europe/Madrid:20210225T223000
DTSTAMP:20260425T022010
CREATED:20210312T101617Z
LAST-MODIFIED:20210312T101853Z
UID:7743-1614288600-1614292200@www.parroquiasanjuandeavila.es
SUMMARY:Hora Santa
DESCRIPTION:Desde el jueves 25 de febrero de 2021 la Hora Santa vuelve al horario de 21:30 a 22:30H\n\n\n\n¡Contamos contigo! ¡El señor te espera!\n\n\n\nPuedes leer también: \n\n\n\n\nHora Santa del 18 de febrero de 2021\nSegunda Hora Santa del año\, 14 de enero 2021\nHora Santa en Navidad\, 7 de enero 2021\nHora Santa por los Cristianos perseguidos\, 26 noviembre 2020\n\n\n\n\n\n\n\n\n«Tomad\, comed: esto es mi cuerpo.» Mateo 26\, 26
URL:https://www.parroquiasanjuandeavila.es/event/hora-santa-6/
CATEGORIES:Vida parroquial
ATTACH;FMTTYPE=image/jpeg:https://www.parroquiasanjuandeavila.es/wp-content/uploads/2021/03/cartel_horasanta_5.jpg
END:VEVENT
BEGIN:VEVENT
DTSTART;TZID=Europe/Madrid:20210226T193000
DTEND;TZID=Europe/Madrid:20210226T200000
DTSTAMP:20260425T022010
CREATED:20200224T113815Z
LAST-MODIFIED:20210218T084331Z
UID:5489-1614367800-1614369600@www.parroquiasanjuandeavila.es
SUMMARY:Vía Crucis
DESCRIPTION:Os recordamos que la parroquia está abierta desde las 6 y media de la mañana por lo que cualquier momento es bueno para pasar un rato con el Santísimo\, mucho más en tiempo de Cuaresma.\n\nLos viernes a las siete y media de la tarde durante la Cuaresma de 2021 se rezará el Vía Crucis.\nOs invitamos a uniros a esta oración desde el próximo viernes.\nEl Vía Crucis o Camino a la Cruz es una de las más antiguas devociones practicadas por los Católicos en todo el mundo.  Consiste en acompañar a Jesús en su Pasión y Muerte\, en sus horas finales\, repasando 14 momentos (las 14 Estaciones del Vía Crucis) desde que fue condenado a muerte hasta su sepultura. \nMás recientemente a veces se suele agregar una nueva 15ª Estación: la Resurrección del Señor\, en consideración a que si Cristo no resucitó\, vana sería nuestra Fe (1 Cor 15\, 14). \nLos momentos o estaciones que se recuerdan son los siguientes: \n\n1ª Estación: Jesús es condenado a muerte.\n2ª Estación: Jesús carga con la Cruz.\n3ª Estación: Jesús cae por primera vez.\n4ª Estación: Jesús se encuentra con su Madre.\n5ª Estación: Simón de Cirene ayuda a Jesús a llevar la cruz.\n6ª Estación: La Verónica limpia el rostro de Jesús.\n7ª Estación: Jesús cae por segunda vez.\n8ª Estación: Jesús habla a las mujeres de Jerusalén.\n9ª Estación: Jesús cae por tercera vez.\n10ª Estación: Jesús es despojado de sus vestiduras.\n11ª Estación: Jesús es clavado en la cruz.\n12ª Estación: Jesús muere en la cruz.\n13ª Estación: Jesús es bajado de la cruz.\n14ª Estación: Jesús es sepultado.\n15ª Estación: Y al tercer día resucitó.\n\n \nPuedes leer también: \nOraciones de Cuaresma: rezo del Via Crucis
URL:https://www.parroquiasanjuandeavila.es/event/via-crucis-5/
CATEGORIES:Vida parroquial
ATTACH;FMTTYPE=image/jpeg:https://www.parroquiasanjuandeavila.es/wp-content/uploads/2019/03/via_crucis.jpg
END:VEVENT
BEGIN:VEVENT
DTSTART;TZID=Europe/Madrid:20210227T090000
DTEND;TZID=Europe/Madrid:20210227T193000
DTSTAMP:20260425T022010
CREATED:20210215T092052Z
LAST-MODIFIED:20210412T080338Z
UID:7476-1614416400-1614454200@www.parroquiasanjuandeavila.es
SUMMARY:Marcha de Montañeros a Valdequemada. ¡Apúntate ahora!
DESCRIPTION:¡ Apúntate ahora ! El 27 de febrero de 2021 hay marcha de montañeros a Valdequemada. \nDatos \nSalida: 9hRegreso: 20hDestino: ValdemaquedaImporte: 15 euros \nCondiciones necesarias por las circunstancias de COVID-19: \n\nLlevar mascarilla en todo momento\nIremos en grupos de 6 ó de 15 máximo\, según normativa\nNo intercambiar comida\, ropa\, mochila… salvo familiares convivientes.\nNo haber tenido síntomas relacionados con el COVID-19\, 14 días antes de la actividad\nNo haber estado en contacto con un caso positivo de COVID-19 14 días antes\n\nMaterial \n\nEl habitual en marchas de montañeros\n2 mascarillas (una de repuesto por si acaso)\nGel hidro-alcohólico\n\nModo de apuntarse \n\nRellenar Ficha de autorización (si no se hizo en la primera actividad). Descarga la ficha\, si no lo hiciste: Ficha_Montañeros_2020-2021\nEntregar un sobre con el nombre y con el importe en la parroquia\n\n\n\n\n¡ Montañeros\, apuntaos ahora ! \n\n\n \n! No podéis faltar ! \n\n\n\n\n\n\n\n\n\nPuedes leer también: \n\n\n\n\nActividades del 23 de enero 2021\nDe la Silla de Felipe II a las Machotas\, 28 noviembre 2020\nSalida de Montañeros\, 24 octubre 2020
URL:https://www.parroquiasanjuandeavila.es/event/actividad-de-montaneros-2/
CATEGORIES:Jóvenes,Montañeros,Vida parroquial
ATTACH;FMTTYPE=image/png:https://www.parroquiasanjuandeavila.es/wp-content/uploads/2016/12/LOGO-black.png
END:VEVENT
END:VCALENDAR