BEGIN:VCALENDAR
VERSION:2.0
PRODID:-//Parroquia San Juan de Ávila - ECPv6.0.6.2//NONSGML v1.0//EN
CALSCALE:GREGORIAN
METHOD:PUBLISH
X-WR-CALNAME:Parroquia San Juan de Ávila
X-ORIGINAL-URL:https://www.parroquiasanjuandeavila.es
X-WR-CALDESC:Eventos para Parroquia San Juan de Ávila
REFRESH-INTERVAL;VALUE=DURATION:PT1H
X-Robots-Tag:noindex
X-PUBLISHED-TTL:PT1H
BEGIN:VTIMEZONE
TZID:Europe/Madrid
BEGIN:DAYLIGHT
TZOFFSETFROM:+0100
TZOFFSETTO:+0200
TZNAME:CEST
DTSTART:20220327T010000
END:DAYLIGHT
BEGIN:STANDARD
TZOFFSETFROM:+0200
TZOFFSETTO:+0100
TZNAME:CET
DTSTART:20221030T010000
END:STANDARD
BEGIN:DAYLIGHT
TZOFFSETFROM:+0100
TZOFFSETTO:+0200
TZNAME:CEST
DTSTART:20230326T010000
END:DAYLIGHT
BEGIN:STANDARD
TZOFFSETFROM:+0200
TZOFFSETTO:+0100
TZNAME:CET
DTSTART:20231029T010000
END:STANDARD
END:VTIMEZONE
BEGIN:VEVENT
DTSTART;TZID=Europe/Madrid:20221220T070000
DTEND;TZID=Europe/Madrid:20221220T080000
DTSTAMP:20260422T003818
CREATED:20221117T103449Z
LAST-MODIFIED:20221117T103752Z
UID:13093-1671519600-1671523200@www.parroquiasanjuandeavila.es
SUMMARY:Misa Rorate
DESCRIPTION:Los próximos martes y jueves de Adviento (del 13 al 22 de diciembre de 2022) tendremos ‘Misa Rorate’ a las 7 y cuarto de la mañana.\nMisas Rorate:\n\n13/12/2022 a las 7:15H\n15/12/2022 a las 7:15H\n20/12/2022 a las 7:15H\n22/12/2022 a las 7:15H\n\nEsta misa votiva durante el Adviento en honor de la Santa Madre recibe su nombre de las primeras palabras del canto de apertura en latín\, “Rorate caeli”\, es decir “Derramad\, oh cielos”.\n\nLo peculiar de esta celebración de la Eucaristía es que se celebra tradicionalmente a oscuras\, con la única luz de las velas y antes del amanecer. El simbolismo de esta misa es abundante y es una expresión suprema de la temporada de Adviento.\n\nSe celebra normalmente antes del amanecer\, los cálidos rayos del sol invernal van iluminando lentamente la iglesia. Esto es reflejo del tema general del Adviento\, un tiempo de expectativa y espera ansiosa por la llegada del Hijo de Dios\, la Luz del Mundo.\n\nPuedes leer también:\n\n\nPrimera Misa Rorate\, 14 de diciembre de 2021\nPráctica cristiana: Oración de Adviento
URL:https://www.parroquiasanjuandeavila.es/event/misa-rorate-7/
LOCATION:Parroquia San Juan de Ávila Móstoles
CATEGORIES:Vida parroquial
ATTACH;FMTTYPE=image/jpeg:https://www.parroquiasanjuandeavila.es/wp-content/uploads/2021/12/20211214_Vela.jpg
END:VEVENT
BEGIN:VEVENT
DTSTART;TZID=Europe/Madrid:20221222T070000
DTEND;TZID=Europe/Madrid:20221222T080000
DTSTAMP:20260422T003818
CREATED:20221117T103636Z
LAST-MODIFIED:20221117T103636Z
UID:13095-1671692400-1671696000@www.parroquiasanjuandeavila.es
SUMMARY:Misa Rorate
DESCRIPTION:Los próximos martes y jueves de Adviento (del 13 al 22 de diciembre de 2022) tendremos ‘Misa Rorate’ a las 7 y cuarto de la mañana.\nMisas Rorate:\n\n13/12/2022 a las 7:15H\n15/12/2022 a las 7:15H\n20/12/2022 a las 7:15H\n22/12/2022 a las 7:15H\n\nEsta misa votiva durante el Adviento en honor de la Santa Madre recibe su nombre de las primeras palabras del canto de apertura en latín\, “Rorate caeli”\, es decir “Derramad\, oh cielos”.\n\nLo peculiar de esta celebración de la Eucaristía es que se celebra tradicionalmente a oscuras\, con la única luz de las velas y antes del amanecer. El simbolismo de esta misa es abundante y es una expresión suprema de la temporada de Adviento.\n\nSe celebra normalmente antes del amanecer\, los cálidos rayos del sol invernal van iluminando lentamente la iglesia. Esto es reflejo del tema general del Adviento\, un tiempo de expectativa y espera ansiosa por la llegada del Hijo de Dios\, la Luz del Mundo.\n\nPuedes leer también:\n\n\nPrimera Misa Rorate\, 14 de diciembre de 2021\nPráctica cristiana: Oración de Adviento
URL:https://www.parroquiasanjuandeavila.es/event/misa-rorate-8/
LOCATION:Parroquia San Juan de Ávila Móstoles
CATEGORIES:Vida parroquial
ATTACH;FMTTYPE=image/jpeg:https://www.parroquiasanjuandeavila.es/wp-content/uploads/2021/12/20211214_Vela.jpg
END:VEVENT
BEGIN:VEVENT
DTSTART;TZID=Europe/Madrid:20221222T210000
DTEND;TZID=Europe/Madrid:20221222T220000
DTSTAMP:20260422T003818
CREATED:20221221T095737Z
LAST-MODIFIED:20221221T111958Z
UID:13376-1671742800-1671746400@www.parroquiasanjuandeavila.es
SUMMARY:Vísperas Solemnes a las 21H
DESCRIPTION:El jueves 22 de diciembre de 2022 celebremos el oficio de vísperas de forma solemne a las 21H. (No habrá hora santa)\nComo en los Laudes\, las Vísperas\, como oración de la tarde\, es considerada por una venerable tradición de la Iglesia como el eje del Oficio diario  y\, por esto\, tienen que ser tratadas y celebradas como las Horas principales. \nLas Vísperas se celebran al oscurecer\, cuando muere el día\, a fin de “dar gracias por todo lo que hemos recibido o que hemos hecho rectamente”. Recordamos también la redención\, por medio de la oración que levantamos “como incienso en tu presencia” y en la cual “levantamos las manos como ofrenda de la tarde”. \nPuedes leer también: \n\nHorarios de Navidad 2022 y año nuevo 2023\nMisa Rorate\, martes y jueves de Adviento a las 7:15H\n\n \n 
URL:https://www.parroquiasanjuandeavila.es/event/visperas-solemnes-a-las-21h/
CATEGORIES:Vida parroquial
ATTACH;FMTTYPE=image/jpeg:https://www.parroquiasanjuandeavila.es/wp-content/uploads/2022/12/VisperasSolemnes2.jpg
END:VEVENT
BEGIN:VEVENT
DTSTART;TZID=Europe/Madrid:20221224T233000
DTEND;TZID=Europe/Madrid:20221224T233000
DTSTAMP:20260422T003818
CREATED:20221219T104434Z
LAST-MODIFIED:20221219T105843Z
UID:13355-1671924600-1671924600@www.parroquiasanjuandeavila.es
SUMMARY:Misa del Gallo\, 12 de la noche.
DESCRIPTION:
URL:https://www.parroquiasanjuandeavila.es/event/misa-del-gallo/
CATEGORIES:Vida parroquial
ATTACH;FMTTYPE=image/jpeg:https://www.parroquiasanjuandeavila.es/wp-content/uploads/2022/12/Virgen_Maria_Nino.jpg
END:VEVENT
BEGIN:VEVENT
DTSTART;TZID=Europe/Madrid:20221225T113000
DTEND;TZID=Europe/Madrid:20221225T123000
DTSTAMP:20260422T003818
CREATED:20221219T105018Z
LAST-MODIFIED:20221219T105818Z
UID:13358-1671967800-1671971400@www.parroquiasanjuandeavila.es
SUMMARY:Natividad del Señor. Misas: 11:30\, 13 y 20H.
DESCRIPTION:
URL:https://www.parroquiasanjuandeavila.es/event/natividad-del-senor-misas-1130-13-y-20h/
CATEGORIES:Vida parroquial
ATTACH;FMTTYPE=image/jpeg:https://www.parroquiasanjuandeavila.es/wp-content/uploads/2022/12/Virgen_Maria_Nino.jpg
END:VEVENT
BEGIN:VEVENT
DTSTART;TZID=Europe/Madrid:20221230T080000
DTEND;TZID=Europe/Madrid:20221230T220000
DTSTAMP:20260422T003818
CREATED:20221219T103452Z
LAST-MODIFIED:20221229T114947Z
UID:13347-1672387200-1672437600@www.parroquiasanjuandeavila.es
SUMMARY:Jornada de la Sagrada Familia
DESCRIPTION:«La familia\, cuna de la vocación al amor»\nLa Iglesia celebra el viernes 30 de diciembre de 2022 la Jornada de la Sagrada Familia este año con el lema\, “La familia\, cuna de la vocación al amor”. La Subcomisión Episcopal para la Familia y la Defensa de la Vida es la encargada de editar los materiales para este día\, que incluye un folleto para orar en familia esta Navidad. \n  \n\nORACIÓN\nOh\, Dios\, te damos gracias porque nos permitiste participar\nde tu paternidad divina al darnos\ncomo don y regalo a nuestros hijos.\nSon tuyos y a ti te los ofrecemos.\nTe pedimos que nunca se aparten\nde ti: líbralos de todo mal\, llévalos\npor el camino de la vida\, protégelos\nal abrigo de tu corazón\, cuídalos y\nconsérvalos buenos\, firmes en la fe\ny sanos en su alma y en su cuerpo.\nDales luz para conocer tu proyecto\nde amor para ellos y la fuerza de tu\nEspíritu que los haga valientes para cumplirlo. \nY a nosotros\, concédenos ser buenos padres para que a través de\nnosotros ellos descubran el amor\nque les tienes. Que nuestra familia\nsea Betania donde tu corazón descanse\, “iglesia doméstica” en que\nse alimente y cuide la vida de santidad\, y semillero de vocaciones\nde los distintos estados de la vida cristiana. \nA la Sagrada Familia de Nazaret\nconfiamos nuestro hogar: guardadnos en vuestro amor y guiadnos\nsiempre hasta el hogar del cielo.\nAmén. \n 
URL:https://www.parroquiasanjuandeavila.es/event/jornada-de-la-sagrada-familia/
CATEGORIES:Diócesis de Getafe,Vida parroquial
ATTACH;FMTTYPE=image/jpeg:https://www.parroquiasanjuandeavila.es/wp-content/uploads/2022/12/Jornada-de-la-Sagrada-Familia-2022-cartel-castellano.jpg
END:VEVENT
BEGIN:VEVENT
DTSTART;TZID=Europe/Madrid:20221230T090000
DTEND;TZID=Europe/Madrid:20221230T193000
DTSTAMP:20260422T003818
CREATED:20221219T105518Z
LAST-MODIFIED:20221219T105705Z
UID:13360-1672390800-1672428600@www.parroquiasanjuandeavila.es
SUMMARY:Salida de Montañeros
DESCRIPTION:Toda la información: Marcha de Montañeros 30/12/2022 \n\n \n 
URL:https://www.parroquiasanjuandeavila.es/event/salida-de-montaneros-2/
CATEGORIES:Familias,Jóvenes,Montañeros,Vida parroquial
ATTACH;FMTTYPE=image/png:https://www.parroquiasanjuandeavila.es/wp-content/uploads/2016/12/LOGO-black.png
END:VEVENT
BEGIN:VEVENT
DTSTART;TZID=Europe/Madrid:20230101T113000
DTEND;TZID=Europe/Madrid:20230101T210000
DTSTAMP:20260422T003818
CREATED:20221219T110020Z
LAST-MODIFIED:20221219T110020Z
UID:13362-1672572600-1672606800@www.parroquiasanjuandeavila.es
SUMMARY:Santa María Madre de Dios. Misas: 11:30\, 13 y 20H
DESCRIPTION:
URL:https://www.parroquiasanjuandeavila.es/event/santa-maria-madre-de-dios-misas-1130-13-y-20h/
CATEGORIES:Vida parroquial
END:VEVENT
BEGIN:VEVENT
DTSTART;TZID=Europe/Madrid:20230104T170000
DTEND;TZID=Europe/Madrid:20230104T193000
DTSTAMP:20260422T003818
CREATED:20221219T110245Z
LAST-MODIFIED:20221219T110245Z
UID:13367-1672851600-1672860600@www.parroquiasanjuandeavila.es
SUMMARY:Festival de Navidad
DESCRIPTION:
URL:https://www.parroquiasanjuandeavila.es/event/festival-de-navidad-2/
CATEGORIES:Vida parroquial
END:VEVENT
BEGIN:VEVENT
DTSTART;TZID=Europe/Madrid:20230106T130000
DTEND;TZID=Europe/Madrid:20230106T210000
DTSTAMP:20260422T003818
CREATED:20221219T110138Z
LAST-MODIFIED:20221219T110138Z
UID:13365-1673010000-1673038800@www.parroquiasanjuandeavila.es
SUMMARY:Epifanía. Misas 13 y 20H.
DESCRIPTION:
URL:https://www.parroquiasanjuandeavila.es/event/epifania-misas-13-y-20h/
CATEGORIES:Vida parroquial
END:VEVENT
BEGIN:VEVENT
DTSTART;TZID=Europe/Madrid:20230112T213000
DTEND;TZID=Europe/Madrid:20230112T223000
DTSTAMP:20260422T003818
CREATED:20221117T163925Z
LAST-MODIFIED:20221208T174104Z
UID:13097-1673559000-1673562600@www.parroquiasanjuandeavila.es
SUMMARY:Hora Santa
DESCRIPTION:Todos los jueves\, a partir del jueves 6 de octubre de 2022\, tenemos hora santa de 21:30H a 22:30H.\n¡Es el momento de acompañar al Señor! ¡Te está esperando! \n«YO HE VENIDO PARA QUE TENGAN VIDA\, Y LA TENGAN ABUNDANTE» Juan 10\, 10 \n  \n  \n\n  \nPuedes leer también: \n  \n\nHora Santa del 24 junio de 2021\nHora santa del 8 de abril de 2021\nImágenes de los oficios de Jueves Santo y la Hora Santa 2021
URL:https://www.parroquiasanjuandeavila.es/event/hora-santa-58/
CATEGORIES:Vida parroquial
ATTACH;FMTTYPE=image/jpeg:https://www.parroquiasanjuandeavila.es/wp-content/uploads/2022/11/cartel_horasanta_11-2022.jpeg
END:VEVENT
BEGIN:VEVENT
DTSTART;TZID=Europe/Madrid:20230128T080000
DTEND;TZID=Europe/Madrid:20230128T210000
DTSTAMP:20260422T003818
CREATED:20230103T152006Z
LAST-MODIFIED:20230103T152117Z
UID:13519-1674892800-1674939600@www.parroquiasanjuandeavila.es
SUMMARY:Marcha de Montañeros
DESCRIPTION:El 28 de enero de 2023 está previsto realizar la siguiente marcha de Montañeros. \nLos detalles más adelante. \n¡Apúntate el día! \nPuedes leer tambien: \n\nMarcha de Montañeros a Cancho Gordo\, 30 diciembre 2022\nSubida de Montañeros a la Peña Horcón\, 5 noviembre 2022\nMarcha de Montañeros a Siete Picos\, 8 octubre 2022
URL:https://www.parroquiasanjuandeavila.es/event/marcha-de-montaneros-4/
CATEGORIES:Montañeros
ATTACH;FMTTYPE=image/png:https://www.parroquiasanjuandeavila.es/wp-content/uploads/2016/12/LOGO-black.png
END:VEVENT
END:VCALENDAR