BEGIN:VCALENDAR
VERSION:2.0
PRODID:-//Parroquia San Juan de Ávila - ECPv6.0.6.2//NONSGML v1.0//EN
CALSCALE:GREGORIAN
METHOD:PUBLISH
X-WR-CALNAME:Parroquia San Juan de Ávila
X-ORIGINAL-URL:https://www.parroquiasanjuandeavila.es
X-WR-CALDESC:Eventos para Parroquia San Juan de Ávila
REFRESH-INTERVAL;VALUE=DURATION:PT1H
X-Robots-Tag:noindex
X-PUBLISHED-TTL:PT1H
BEGIN:VTIMEZONE
TZID:Europe/Madrid
BEGIN:DAYLIGHT
TZOFFSETFROM:+0100
TZOFFSETTO:+0200
TZNAME:CEST
DTSTART:20220327T010000
END:DAYLIGHT
BEGIN:STANDARD
TZOFFSETFROM:+0200
TZOFFSETTO:+0100
TZNAME:CET
DTSTART:20221030T010000
END:STANDARD
END:VTIMEZONE
BEGIN:VEVENT
DTSTART;TZID=Europe/Madrid:20221008T090000
DTEND;TZID=Europe/Madrid:20221008T200000
DTSTAMP:20260421T184416
CREATED:20221003T114723Z
LAST-MODIFIED:20221003T114845Z
UID:12431-1665219600-1665259200@www.parroquiasanjuandeavila.es
SUMMARY:Marcha de Montañeros
DESCRIPTION:  \nConsulta toda la información en: \n¡Apúntate ahora a la marcha de Montañeros del 8 de octubre de 2022! \n  \nPuedes leer también: \nCampamento de Montañeros 2022. Parte final.\nCampamento de Montañeros 2022. Segunda parte.\nCampamento de Montañeros 2022. Primera parte.
URL:https://www.parroquiasanjuandeavila.es/event/marcha-de-montaneros-3/
CATEGORIES:Familias,Montañeros
ATTACH;FMTTYPE=image/jpeg:https://www.parroquiasanjuandeavila.es/wp-content/uploads/2022/09/cartel_marcha_oct2022.jpg
END:VEVENT
END:VCALENDAR