BEGIN:VCALENDAR
VERSION:2.0
PRODID:-//Parroquia San Juan de Ávila - ECPv6.0.6.2//NONSGML v1.0//EN
CALSCALE:GREGORIAN
METHOD:PUBLISH
X-WR-CALNAME:Parroquia San Juan de Ávila
X-ORIGINAL-URL:https://www.parroquiasanjuandeavila.es
X-WR-CALDESC:Eventos para Parroquia San Juan de Ávila
REFRESH-INTERVAL;VALUE=DURATION:PT1H
X-Robots-Tag:noindex
X-PUBLISHED-TTL:PT1H
BEGIN:VTIMEZONE
TZID:Europe/Madrid
BEGIN:DAYLIGHT
TZOFFSETFROM:+0100
TZOFFSETTO:+0200
TZNAME:CEST
DTSTART:20210328T010000
END:DAYLIGHT
BEGIN:STANDARD
TZOFFSETFROM:+0200
TZOFFSETTO:+0100
TZNAME:CET
DTSTART:20211031T010000
END:STANDARD
END:VTIMEZONE
BEGIN:VEVENT
DTSTART;TZID=Europe/Madrid:20210610T213000
DTEND;TZID=Europe/Madrid:20210610T223000
DTSTAMP:20260424T215340
CREATED:20210604T105120Z
LAST-MODIFIED:20210604T110612Z
UID:8270-1623360600-1623364200@www.parroquiasanjuandeavila.es
SUMMARY:Hora Santa
DESCRIPTION:DESDE EL JUEVES 25 DE FEBRERO DE 2021 LA HORA SANTA VUELVE AL HORARIO DE 21:30 A 22:30H\n«Ven y sígueme».\nMc 10\, 21 \n¡Contamos contigo!\n¡El señor te espera!\nPuedes leer también: \n\nHora santa del 8 de abril de 202\nHora Santa del 6 de mayo de 2021\n\n\nhttps://www.parroquiasanjuandeavila.es/wp-content/uploads/2021/06/20210603_HoraSanta.mp4
URL:https://www.parroquiasanjuandeavila.es/event/hora-santa-16/
CATEGORIES:Vida parroquial
ATTACH;FMTTYPE=image/jpeg:https://www.parroquiasanjuandeavila.es/wp-content/uploads/2021/06/cartel_horasanta_junio.jpg
END:VEVENT
END:VCALENDAR