BEGIN:VCALENDAR
VERSION:2.0
PRODID:-//Parroquia San Juan de Ávila - ECPv6.0.6.2//NONSGML v1.0//EN
CALSCALE:GREGORIAN
METHOD:PUBLISH
X-ORIGINAL-URL:https://www.parroquiasanjuandeavila.es
X-WR-CALDESC:Eventos para Parroquia San Juan de Ávila
REFRESH-INTERVAL;VALUE=DURATION:PT1H
X-Robots-Tag:noindex
X-PUBLISHED-TTL:PT1H
BEGIN:VTIMEZONE
TZID:Europe/Madrid
BEGIN:DAYLIGHT
TZOFFSETFROM:+0100
TZOFFSETTO:+0200
TZNAME:CEST
DTSTART:20210328T010000
END:DAYLIGHT
BEGIN:STANDARD
TZOFFSETFROM:+0200
TZOFFSETTO:+0100
TZNAME:CET
DTSTART:20211031T010000
END:STANDARD
END:VTIMEZONE
BEGIN:VEVENT
DTSTART;TZID=Europe/Madrid:20210403T100000
DTEND;TZID=Europe/Madrid:20210403T110000
DTSTAMP:20260425T004844
CREATED:20210323T101630Z
LAST-MODIFIED:20210323T103739Z
UID:7850-1617444000-1617447600@www.parroquiasanjuandeavila.es
SUMMARY:Laudes y explicación de oficios
DESCRIPTION:10.00 Laudes\n10.30 Explicación Sábado y Vigilia Pascual\n11.00 Vía Matris\n20.00 Solemne Vigilia Pascual
URL:https://www.parroquiasanjuandeavila.es/event/laudes-y-explicacion-de-oficios/
CATEGORIES:Vida parroquial
ATTACH;FMTTYPE=image/jpeg:https://www.parroquiasanjuandeavila.es/wp-content/uploads/2019/03/clavado_cruz.jpg
END:VEVENT
BEGIN:VEVENT
DTSTART;TZID=Europe/Madrid:20210403T110000
DTEND;TZID=Europe/Madrid:20210403T120000
DTSTAMP:20260425T004844
CREATED:20210323T102142Z
LAST-MODIFIED:20210412T080229Z
UID:7852-1617447600-1617451200@www.parroquiasanjuandeavila.es
SUMMARY:Via Matris
DESCRIPTION:11.00 Vía Matris\n\nEl Vía Matris es el acompañando a la Santísima Virgen María en los dolores que vivió junto a su Hijo y que solemos rezar el sábado santo en la parroquia.
URL:https://www.parroquiasanjuandeavila.es/event/via-matris/
CATEGORIES:Vida parroquial
ATTACH;FMTTYPE=image/jpeg:https://www.parroquiasanjuandeavila.es/wp-content/uploads/2020/04/La_Virgen_Dolorosa.jpg
END:VEVENT
BEGIN:VEVENT
DTSTART;TZID=Europe/Madrid:20210403T200000
DTEND;TZID=Europe/Madrid:20210403T223000
DTSTAMP:20260425T004844
CREATED:20210323T100718Z
LAST-MODIFIED:20210323T100913Z
UID:7845-1617480000-1617489000@www.parroquiasanjuandeavila.es
SUMMARY:Solemne Vigilia Pascual
DESCRIPTION:A las 8 de la tarde del sábado 3 de abril de 2021 tendremos la Solemne Vigilia Pascual.\nActividades del Sábado Santo:\n\n10.00 Laudes\n10.30 Explicación Sábado y Vigilia Pascual\n11.00 Vía Matris\n20.00 Solemne Vigilia Pascual\n\n \nPuedes leer también: \nIndulgencias especiales con ocasión del Año de San José \nMeditaciones \n 
URL:https://www.parroquiasanjuandeavila.es/event/solemne-vigilia-pascual/
CATEGORIES:Vida parroquial
ATTACH;FMTTYPE=image/jpeg:https://www.parroquiasanjuandeavila.es/wp-content/uploads/2020/04/Cristo_resucitado_1JPG.jpg
END:VEVENT
END:VCALENDAR