BEGIN:VCALENDAR
VERSION:2.0
PRODID:-//Parroquia San Juan de Ávila - ECPv6.0.6.2//NONSGML v1.0//EN
CALSCALE:GREGORIAN
METHOD:PUBLISH
X-ORIGINAL-URL:https://www.parroquiasanjuandeavila.es
X-WR-CALDESC:Eventos para Parroquia San Juan de Ávila
REFRESH-INTERVAL;VALUE=DURATION:PT1H
X-Robots-Tag:noindex
X-PUBLISHED-TTL:PT1H
BEGIN:VTIMEZONE
TZID:Europe/Madrid
BEGIN:DAYLIGHT
TZOFFSETFROM:+0100
TZOFFSETTO:+0200
TZNAME:CEST
DTSTART:20210328T010000
END:DAYLIGHT
BEGIN:STANDARD
TZOFFSETFROM:+0200
TZOFFSETTO:+0100
TZNAME:CET
DTSTART:20211031T010000
END:STANDARD
END:VTIMEZONE
BEGIN:VEVENT
DTSTART;TZID=Europe/Madrid:20210401T100000
DTEND;TZID=Europe/Madrid:20210401T110000
DTSTAMP:20260425T004847
CREATED:20210323T103552Z
LAST-MODIFIED:20210323T103617Z
UID:7860-1617271200-1617274800@www.parroquiasanjuandeavila.es
SUMMARY:Laudes y explicación de oficios
DESCRIPTION:Actividades del Jueves Santo\n\n10.00 Laudes\n10.30 Explicación Jueves y Oficios\n18.00 Celebración Santa Cena del Señor\n21.30 Hora Santa
URL:https://www.parroquiasanjuandeavila.es/event/laudes-y-explicacion-de-oficios-3/
CATEGORIES:Vida parroquial
ATTACH;FMTTYPE=image/jpeg:https://www.parroquiasanjuandeavila.es/wp-content/uploads/2019/03/clavado_cruz.jpg
END:VEVENT
BEGIN:VEVENT
DTSTART;TZID=Europe/Madrid:20210401T180000
DTEND;TZID=Europe/Madrid:20210401T190000
DTSTAMP:20260425T004847
CREATED:20210323T104028Z
LAST-MODIFIED:20210323T104028Z
UID:7862-1617300000-1617303600@www.parroquiasanjuandeavila.es
SUMMARY:Celebración Santa Cena del Señor
DESCRIPTION:18.00 Celebración Santa Cena del Señor
URL:https://www.parroquiasanjuandeavila.es/event/celebracion-santa-cena-del-senor/
CATEGORIES:Vida parroquial
ATTACH;FMTTYPE=image/jpeg:https://www.parroquiasanjuandeavila.es/wp-content/uploads/2020/05/Ultima_cena.jpg
END:VEVENT
BEGIN:VEVENT
DTSTART;TZID=Europe/Madrid:20210401T213000
DTEND;TZID=Europe/Madrid:20210401T223000
DTSTAMP:20260425T004847
CREATED:20210323T104212Z
LAST-MODIFIED:20210323T104305Z
UID:7864-1617312600-1617316200@www.parroquiasanjuandeavila.es
SUMMARY:Hora Santa
DESCRIPTION:21.30 Hora Santa
URL:https://www.parroquiasanjuandeavila.es/event/hora-santa-7/
CATEGORIES:Vida parroquial
ATTACH;FMTTYPE=image/jpeg:https://www.parroquiasanjuandeavila.es/wp-content/uploads/2021/03/cartel_horasanta_5.jpg
END:VEVENT
END:VCALENDAR