BEGIN:VCALENDAR
VERSION:2.0
PRODID:-//Parroquia San Juan de Ávila - ECPv6.0.6.2//NONSGML v1.0//EN
CALSCALE:GREGORIAN
METHOD:PUBLISH
X-ORIGINAL-URL:https://www.parroquiasanjuandeavila.es
X-WR-CALDESC:Eventos para Parroquia San Juan de Ávila
REFRESH-INTERVAL;VALUE=DURATION:PT1H
X-Robots-Tag:noindex
X-PUBLISHED-TTL:PT1H
BEGIN:VTIMEZONE
TZID:Europe/Madrid
BEGIN:DAYLIGHT
TZOFFSETFROM:+0100
TZOFFSETTO:+0200
TZNAME:CEST
DTSTART:20210328T010000
END:DAYLIGHT
BEGIN:STANDARD
TZOFFSETFROM:+0200
TZOFFSETTO:+0100
TZNAME:CET
DTSTART:20211031T010000
END:STANDARD
END:VTIMEZONE
BEGIN:VEVENT
DTSTART;TZID=Europe/Madrid:20210330T120000
DTEND;TZID=Europe/Madrid:20210330T133000
DTSTAMP:20260425T022317
CREATED:20210323T114947Z
LAST-MODIFIED:20210412T080301Z
UID:7873-1617105600-1617111000@www.parroquiasanjuandeavila.es
SUMMARY:Misa Crismal en el Cerro de los Ángeles
DESCRIPTION:12.00 Misa Crismal en la Basílica del Sagrado Corazón de Jesús (Cerro de los Ángeles)
URL:https://www.parroquiasanjuandeavila.es/event/misa-crismal-en-el-cerro-de-los-angeles/
LOCATION:Cerro de los Angeles\, Getafe\, Cerro de los Ángeles\, Getafe\, Spain
CATEGORIES:Diócesis de Getafe
ATTACH;FMTTYPE=image/jpeg:https://www.parroquiasanjuandeavila.es/wp-content/uploads/2018/06/cerro_angeles.jpg
END:VEVENT
BEGIN:VEVENT
DTSTART;TZID=Europe/Madrid:20210330T200000
DTEND;TZID=Europe/Madrid:20210330T210000
DTSTAMP:20260425T022317
CREATED:20210323T113700Z
LAST-MODIFIED:20210323T113700Z
UID:7870-1617134400-1617138000@www.parroquiasanjuandeavila.es
SUMMARY:Misa Martes Santo
DESCRIPTION:20.00 H Misa
URL:https://www.parroquiasanjuandeavila.es/event/misa-martes-santo/
CATEGORIES:Vida parroquial
ATTACH;FMTTYPE=image/jpeg:https://www.parroquiasanjuandeavila.es/wp-content/uploads/2021/03/La_Crucifixión.jpg
END:VEVENT
END:VCALENDAR