BEGIN:VCALENDAR
VERSION:2.0
PRODID:-//Parroquia San Juan de Ávila - ECPv6.0.6.2//NONSGML v1.0//EN
CALSCALE:GREGORIAN
METHOD:PUBLISH
X-ORIGINAL-URL:https://www.parroquiasanjuandeavila.es
X-WR-CALDESC:Eventos para Parroquia San Juan de Ávila
REFRESH-INTERVAL;VALUE=DURATION:PT1H
X-Robots-Tag:noindex
X-PUBLISHED-TTL:PT1H
BEGIN:VTIMEZONE
TZID:Europe/Madrid
BEGIN:DAYLIGHT
TZOFFSETFROM:+0100
TZOFFSETTO:+0200
TZNAME:CEST
DTSTART:20210328T010000
END:DAYLIGHT
BEGIN:STANDARD
TZOFFSETFROM:+0200
TZOFFSETTO:+0100
TZNAME:CET
DTSTART:20211031T010000
END:STANDARD
END:VTIMEZONE
BEGIN:VEVENT
DTSTART;VALUE=DATE:20210328
DTEND;VALUE=DATE:20210329
DTSTAMP:20260425T022012
CREATED:20210312T103039Z
LAST-MODIFIED:20210323T100133Z
UID:7746-1616889600-1616975999@www.parroquiasanjuandeavila.es
SUMMARY:Domingo de Ramos
DESCRIPTION:Misas: 10.00\, 11.30\, 13.00\, 20.00 H.\nDurante las Misas se hará la bendición de ramos pero no habrá procesión.\n \nPuedes leer también: \nIndulgencias especiales con ocasión del Año de San José \nMeditaciones
URL:https://www.parroquiasanjuandeavila.es/event/domingo-de-ramos-2/
CATEGORIES:Vida parroquial
ATTACH;FMTTYPE=image/jpeg:https://www.parroquiasanjuandeavila.es/wp-content/uploads/2021/03/La_Crucifixión.jpg
END:VEVENT
END:VCALENDAR