BEGIN:VCALENDAR
VERSION:2.0
PRODID:-//Parroquia San Juan de Ávila - ECPv6.0.6.2//NONSGML v1.0//EN
CALSCALE:GREGORIAN
METHOD:PUBLISH
X-ORIGINAL-URL:https://www.parroquiasanjuandeavila.es
X-WR-CALDESC:Eventos para Parroquia San Juan de Ávila
REFRESH-INTERVAL;VALUE=DURATION:PT1H
X-Robots-Tag:noindex
X-PUBLISHED-TTL:PT1H
BEGIN:VTIMEZONE
TZID:Europe/Madrid
BEGIN:DAYLIGHT
TZOFFSETFROM:+0100
TZOFFSETTO:+0200
TZNAME:CEST
DTSTART:20210328T010000
END:DAYLIGHT
BEGIN:STANDARD
TZOFFSETFROM:+0200
TZOFFSETTO:+0100
TZNAME:CET
DTSTART:20211031T010000
END:STANDARD
END:VTIMEZONE
BEGIN:VEVENT
DTSTART;VALUE=DATE:20210321
DTEND;VALUE=DATE:20210322
DTSTAMP:20260425T021958
CREATED:20210315T115827Z
LAST-MODIFIED:20210315T115827Z
UID:7802-1616284800-1616371199@www.parroquiasanjuandeavila.es
SUMMARY:Día del Seminario
DESCRIPTION:El domingo 21 de marzo de 2021 celebraremos el Día del Seminario. \nEste año bajo el lema\, ‘Padre y hermano\, como san José’. El objetivo de esta jornada\, que se celebra en pleno año dedicado a san José\, es proponer la figura de este santo como modelo para seminaristas y presbíteros\, y que las comunidades renueven su compromiso de oración y ayuda por las vocaciones sacerdotales. La colecta del domingo 21 será en favor del Seminario. \nPuedes leer también: \n\nIndulgencias especiales con ocasión del Año de San José\nMeditaciones
URL:https://www.parroquiasanjuandeavila.es/event/dia-del-seminario/
CATEGORIES:Vida parroquial
ATTACH;FMTTYPE=image/jpeg:https://www.parroquiasanjuandeavila.es/wp-content/uploads/2019/03/El_sueño_de_San_Jose.jpg
END:VEVENT
END:VCALENDAR