BEGIN:VCALENDAR
VERSION:2.0
PRODID:-//Parroquia San Juan de Ávila - ECPv6.0.6.2//NONSGML v1.0//EN
CALSCALE:GREGORIAN
METHOD:PUBLISH
X-ORIGINAL-URL:https://www.parroquiasanjuandeavila.es
X-WR-CALDESC:Eventos para Parroquia San Juan de Ávila
REFRESH-INTERVAL;VALUE=DURATION:PT1H
X-Robots-Tag:noindex
X-PUBLISHED-TTL:PT1H
BEGIN:VTIMEZONE
TZID:Europe/Madrid
BEGIN:DAYLIGHT
TZOFFSETFROM:+0100
TZOFFSETTO:+0200
TZNAME:CEST
DTSTART:20210328T010000
END:DAYLIGHT
BEGIN:STANDARD
TZOFFSETFROM:+0200
TZOFFSETTO:+0100
TZNAME:CET
DTSTART:20211031T010000
END:STANDARD
END:VTIMEZONE
BEGIN:VEVENT
DTSTART;TZID=Europe/Madrid:20210318T093000
DTEND;TZID=Europe/Madrid:20210318T223000
DTSTAMP:20260425T022036
CREATED:20210312T082437Z
LAST-MODIFIED:20210312T101050Z
UID:7714-1616059800-1616106600@www.parroquiasanjuandeavila.es
SUMMARY:Hora Santa
DESCRIPTION:Desde el jueves 25 de febrero de 2021 la Hora Santa vuelve al horario de 21:30 a 22:30H\n\n\n\n¡Contamos contigo! ¡El señor te espera!\n\n\n\nPuedes leer también: \n\n\n\n\nHora Santa del 18 de febrero de 2021\nSegunda Hora Santa del año\, 14 de enero 2021\nHora Santa en Navidad\, 7 de enero 2021\nHora Santa por los Cristianos perseguidos\, 26 noviembre 2020\n\n\n\n\n\n\n\n\n«Tomad\, comed: esto es mi cuerpo.» Mateo 26\, 26
URL:https://www.parroquiasanjuandeavila.es/event/hora-santa-2/
CATEGORIES:Vida parroquial
ATTACH;FMTTYPE=image/jpeg:https://www.parroquiasanjuandeavila.es/wp-content/uploads/2021/03/cartel_horasanta_5.jpg
END:VEVENT
END:VCALENDAR