BEGIN:VCALENDAR
VERSION:2.0
PRODID:-//Parroquia San Juan de Ávila - ECPv6.0.6.2//NONSGML v1.0//EN
CALSCALE:GREGORIAN
METHOD:PUBLISH
X-WR-CALNAME:Parroquia San Juan de Ávila
X-ORIGINAL-URL:https://www.parroquiasanjuandeavila.es
X-WR-CALDESC:Eventos para Parroquia San Juan de Ávila
REFRESH-INTERVAL;VALUE=DURATION:PT1H
X-Robots-Tag:noindex
X-PUBLISHED-TTL:PT1H
BEGIN:VTIMEZONE
TZID:Europe/Madrid
BEGIN:DAYLIGHT
TZOFFSETFROM:+0100
TZOFFSETTO:+0200
TZNAME:CEST
DTSTART:20210328T010000
END:DAYLIGHT
BEGIN:STANDARD
TZOFFSETFROM:+0200
TZOFFSETTO:+0100
TZNAME:CET
DTSTART:20211031T010000
END:STANDARD
END:VTIMEZONE
BEGIN:VEVENT
DTSTART;TZID=Europe/Madrid:20210218T210000
DTEND;TZID=Europe/Madrid:20210218T220000
DTSTAMP:20260425T034151
CREATED:20210215T091828Z
LAST-MODIFIED:20210412T080422Z
UID:7474-1613682000-1613685600@www.parroquiasanjuandeavila.es
SUMMARY:Hora Santa de 21 a 22H
DESCRIPTION:Este jueves 18 de febrero de 2021 retomamos la Hora Santa de 21 a 22H. \n¡No podéis faltar!
URL:https://www.parroquiasanjuandeavila.es/event/hora-santa-de-21-a-22h/
LOCATION:Parroquia San Juan de Ávila Móstoles
CATEGORIES:Vida parroquial
ATTACH;FMTTYPE=image/jpeg:https://www.parroquiasanjuandeavila.es/wp-content/uploads/2021/01/Logo_HoraSanta.jpg
END:VEVENT
END:VCALENDAR