BEGIN:VCALENDAR
VERSION:2.0
PRODID:-//Parroquia San Juan de Ávila - ECPv6.0.6.2//NONSGML v1.0//EN
CALSCALE:GREGORIAN
METHOD:PUBLISH
X-ORIGINAL-URL:https://www.parroquiasanjuandeavila.es
X-WR-CALDESC:Eventos para Parroquia San Juan de Ávila
REFRESH-INTERVAL;VALUE=DURATION:PT1H
X-Robots-Tag:noindex
X-PUBLISHED-TTL:PT1H
BEGIN:VTIMEZONE
TZID:Europe/Madrid
BEGIN:DAYLIGHT
TZOFFSETFROM:+0100
TZOFFSETTO:+0200
TZNAME:CEST
DTSTART:20210328T010000
END:DAYLIGHT
BEGIN:STANDARD
TZOFFSETFROM:+0200
TZOFFSETTO:+0100
TZNAME:CET
DTSTART:20211031T010000
END:STANDARD
END:VTIMEZONE
BEGIN:VEVENT
DTSTART;TZID=Europe/Madrid:20210217T100000
DTEND;TZID=Europe/Madrid:20210217T200000
DTSTAMP:20260425T034318
CREATED:20210215T091414Z
LAST-MODIFIED:20210215T091414Z
UID:7471-1613556000-1613592000@www.parroquiasanjuandeavila.es
SUMMARY:Misa e imposición de ceniza
DESCRIPTION:Este próximo miércoles 17 de febrero de 2021 es miércoles de ceniza por lo el horario de Misa e imposición de la ceniza será: \n\n10:00 H Misa con imposición de ceniza\n17:30 H Liturgia de la Palabra e imposición de la ceniza especialmente dedicada a niños y juveniles y sus padres.\n18:30H Misa con imposición de ceniza\n20:00H Misa con imposición de ceniza\n\n \nPuedes leer también: \nLos Milagros Eucarísticos en el Mundo: testimonio de Rosa \nTestimonio de Miguel\, postulante Esclavos de María y de los Pobres \nConvivencia de familias de Comunión\, febrero 2020
URL:https://www.parroquiasanjuandeavila.es/event/misa-e-imposicion-de-ceniza/
LOCATION:Parroquia San Juan de Ávila Móstoles
CATEGORIES:Vida parroquial
ATTACH;FMTTYPE=image/jpeg:https://www.parroquiasanjuandeavila.es/wp-content/uploads/2019/03/corona_espinas.jpg
END:VEVENT
END:VCALENDAR